Package: nullranges Version: 1.13.0 Command: /Library/Frameworks/R.framework/Resources/bin/R CMD INSTALL nullranges StartedAt: 2025-02-17 15:17:27 -0500 (Mon, 17 Feb 2025) EndedAt: 2025-02-17 15:18:15 -0500 (Mon, 17 Feb 2025) EllapsedTime: 48.4 seconds RetCode: 0 Status: OK