Package: nullranges Version: 1.13.0 Command: /Library/Frameworks/R.framework/Resources/bin/R CMD check --install=check:nullranges.install-out.txt --library=/Library/Frameworks/R.framework/Resources/library --no-vignettes --timings nullranges_1.13.0.tar.gz StartedAt: 2025-02-17 22:00:12 -0500 (Mon, 17 Feb 2025) EndedAt: 2025-02-17 22:05:13 -0500 (Mon, 17 Feb 2025) EllapsedTime: 300.9 seconds RetCode: 0 Status: OK CheckDir: nullranges.Rcheck Warnings: 0