Package: nullranges Version: 1.13.0 Command: /Library/Frameworks/R.framework/Resources/bin/R CMD build --keep-empty-dirs --no-resave-data nullranges StartedAt: 2025-02-17 17:36:53 -0500 (Mon, 17 Feb 2025) EndedAt: 2025-02-17 17:39:54 -0500 (Mon, 17 Feb 2025) EllapsedTime: 180.3 seconds RetCode: 0 Status: OK PackageFile: nullranges_1.13.0.tar.gz PackageFileSize: 5.085 MiB