Package: nullranges Version: 1.13.0 Command: rm -rf nullranges.buildbin-libdir && mkdir nullranges.buildbin-libdir && /Users/biocbuild/BBS/utils/build-universal.sh nullranges_1.13.0.tar.gz /Library/Frameworks/R.framework/Resources/bin/R nullranges.buildbin-libdir StartedAt: 2025-02-18 00:37:27 -0500 (Tue, 18 Feb 2025) EndedAt: 2025-02-18 00:38:21 -0500 (Tue, 18 Feb 2025) EllapsedTime: 53.3 seconds RetCode: 0 Status: OK PackageFile: nullranges_1.13.0.tgz PackageFileSize: 5.027 MiB