Package: nullranges Version: 1.13.0 Command: /Library/Frameworks/R.framework/Resources/bin/R CMD build --keep-empty-dirs --no-resave-data nullranges StartedAt: 2025-02-17 17:07:22 -0500 (Mon, 17 Feb 2025) EndedAt: 2025-02-17 17:08:21 -0500 (Mon, 17 Feb 2025) EllapsedTime: 58.7 seconds RetCode: 0 Status: OK PackageFile: nullranges_1.13.0.tar.gz PackageFileSize: 5.086 MiB