Package: nucleoSim Version: 1.35.0 Command: E:\biocbuild\bbs-3.21-bioc\R\bin\R.exe CMD INSTALL nucleoSim StartedAt: 2025-02-20 15:28:59 -0500 (Thu, 20 Feb 2025) EndedAt: 2025-02-20 15:29:12 -0500 (Thu, 20 Feb 2025) EllapsedTime: 13.5 seconds RetCode: 0 Status: OK