Package: nucleoSim Version: 1.35.0 Command: rm -rf nucleoSim.buildbin-libdir && mkdir nucleoSim.buildbin-libdir && E:\biocbuild\bbs-3.21-bioc\R\bin\R.exe CMD INSTALL --build --library=nucleoSim.buildbin-libdir nucleoSim_1.35.0.tar.gz StartedAt: 2025-02-21 08:41:09 -0500 (Fri, 21 Feb 2025) EndedAt: 2025-02-21 08:41:24 -0500 (Fri, 21 Feb 2025) EllapsedTime: 15.3 seconds RetCode: 0 Status: OK PackageFile: nucleoSim_1.35.0.zip PackageFileSize: 339.7 KiB