Package: nucleoSim Version: 1.35.0 Command: /Library/Frameworks/R.framework/Resources/bin/R CMD check --install=check:nucleoSim.install-out.txt --library=/Library/Frameworks/R.framework/Resources/library --no-vignettes --timings nucleoSim_1.35.0.tar.gz StartedAt: 2025-02-20 22:04:15 -0500 (Thu, 20 Feb 2025) EndedAt: 2025-02-20 22:05:19 -0500 (Thu, 20 Feb 2025) EllapsedTime: 64.1 seconds RetCode: 0 Status: OK CheckDir: nucleoSim.Rcheck Warnings: 0