Package: nucleoSim Version: 1.35.0 Command: rm -rf nucleoSim.buildbin-libdir && mkdir nucleoSim.buildbin-libdir && /Users/biocbuild/BBS/utils/build-universal.sh nucleoSim_1.35.0.tar.gz /Library/Frameworks/R.framework/Resources/bin/R nucleoSim.buildbin-libdir StartedAt: 2025-02-20 22:28:25 -0500 (Thu, 20 Feb 2025) EndedAt: 2025-02-20 22:28:28 -0500 (Thu, 20 Feb 2025) EllapsedTime: 3.1 seconds RetCode: 0 Status: OK PackageFile: nucleoSim_1.35.0.tgz PackageFileSize: 496.4 KiB