Package: nuCpos Version: 1.25.0 Command: E:\biocbuild\bbs-3.21-bioc\R\bin\R.exe CMD check --no-multiarch --install=check:nuCpos.install-out.txt --library=E:\biocbuild\bbs-3.21-bioc\R\library --no-vignettes --timings nuCpos_1.25.0.tar.gz StartedAt: 2025-02-21 03:59:25 -0500 (Fri, 21 Feb 2025) EndedAt: 2025-02-21 04:00:19 -0500 (Fri, 21 Feb 2025) EllapsedTime: 54.0 seconds RetCode: 0 Status: OK CheckDir: nuCpos.Rcheck Warnings: 0