Package: nuCpos Version: 1.25.0 Command: rm -rf nuCpos.buildbin-libdir && mkdir nuCpos.buildbin-libdir && E:\biocbuild\bbs-3.21-bioc\R\bin\R.exe CMD INSTALL --build --library=nuCpos.buildbin-libdir nuCpos_1.25.0.tar.gz StartedAt: 2025-02-21 08:41:13 -0500 (Fri, 21 Feb 2025) EndedAt: 2025-02-21 08:41:29 -0500 (Fri, 21 Feb 2025) EllapsedTime: 16.2 seconds RetCode: 0 Status: OK PackageFile: nuCpos_1.25.0.zip PackageFileSize: 1.594 MiB