Package: nuCpos Version: 1.25.0 Command: /home/biocbuild/bbs-3.21-bioc/R/bin/R CMD INSTALL nuCpos StartedAt: 2025-02-20 15:03:04 -0500 (Thu, 20 Feb 2025) EndedAt: 2025-02-20 15:03:11 -0500 (Thu, 20 Feb 2025) EllapsedTime: 7.6 seconds RetCode: 0 Status: OK