Package: nuCpos Version: 1.25.0 Command: /Library/Frameworks/R.framework/Resources/bin/R CMD INSTALL nuCpos StartedAt: 2025-02-19 15:03:22 -0500 (Wed, 19 Feb 2025) EndedAt: 2025-02-19 15:03:54 -0500 (Wed, 19 Feb 2025) EllapsedTime: 32.1 seconds RetCode: 0 Status: OK