Package: nuCpos Version: 1.25.0 Command: /Library/Frameworks/R.framework/Resources/bin/R CMD build --keep-empty-dirs --no-resave-data nuCpos StartedAt: 2025-02-19 17:38:21 -0500 (Wed, 19 Feb 2025) EndedAt: 2025-02-19 17:38:47 -0500 (Wed, 19 Feb 2025) EllapsedTime: 26.0 seconds RetCode: 0 Status: OK PackageFile: nuCpos_1.25.0.tar.gz PackageFileSize: 2.392 MiB