Package: nuCpos Version: 1.25.0 Command: rm -rf nuCpos.buildbin-libdir && mkdir nuCpos.buildbin-libdir && /Users/biocbuild/BBS/utils/build-universal.sh nuCpos_1.25.0.tar.gz /Library/Frameworks/R.framework/Resources/bin/R nuCpos.buildbin-libdir StartedAt: 2025-02-19 22:31:36 -0500 (Wed, 19 Feb 2025) EndedAt: 2025-02-19 22:31:40 -0500 (Wed, 19 Feb 2025) EllapsedTime: 4.1 seconds RetCode: 0 Status: OK PackageFile: nuCpos_1.25.0.tgz PackageFileSize: 1.712 MiB