Package: npGSEA Version: 1.43.0 Command: /home/biocbuild/bbs-3.21-bioc/R/bin/R CMD check --install=check:npGSEA.install-out.txt --library=/home/biocbuild/bbs-3.21-bioc/R/site-library --timings npGSEA_1.43.0.tar.gz StartedAt: 2025-02-21 00:15:15 -0500 (Fri, 21 Feb 2025) EndedAt: 2025-02-21 00:15:20 -0500 (Fri, 21 Feb 2025) EllapsedTime: 5.0 seconds RetCode: 1 Status: ERROR CheckDir: npGSEA.Rcheck Warnings: NA