Package: npGSEA Version: 1.43.0 Command: /Library/Frameworks/R.framework/Resources/bin/R CMD build --keep-empty-dirs --no-resave-data npGSEA StartedAt: 2025-02-20 17:37:28 -0500 (Thu, 20 Feb 2025) EndedAt: 2025-02-20 17:38:33 -0500 (Thu, 20 Feb 2025) EllapsedTime: 64.9 seconds RetCode: 0 Status: OK PackageFile: npGSEA_1.43.0.tar.gz PackageFileSize: 357.7 KiB