Package: npGSEA Version: 1.43.0 Command: rm -rf npGSEA.buildbin-libdir && mkdir npGSEA.buildbin-libdir && /Users/biocbuild/BBS/utils/build-universal.sh npGSEA_1.43.0.tar.gz /Library/Frameworks/R.framework/Resources/bin/R npGSEA.buildbin-libdir StartedAt: 2025-02-21 00:43:28 -0500 (Fri, 21 Feb 2025) EndedAt: 2025-02-21 00:43:53 -0500 (Fri, 21 Feb 2025) EllapsedTime: 25.5 seconds RetCode: 0 Status: OK PackageFile: npGSEA_1.43.0.tgz PackageFileSize: 700.6 KiB