Package: npGSEA Version: 1.43.0 Command: /Library/Frameworks/R.framework/Resources/bin/R CMD INSTALL npGSEA StartedAt: 2025-02-20 15:09:59 -0500 (Thu, 20 Feb 2025) EndedAt: 2025-02-20 15:10:06 -0500 (Thu, 20 Feb 2025) EllapsedTime: 6.4 seconds RetCode: 0 Status: OK