Package: npGSEA Version: 1.43.0 Command: /Library/Frameworks/R.framework/Resources/bin/R CMD check --install=check:npGSEA.install-out.txt --library=/Library/Frameworks/R.framework/Resources/library --no-vignettes --timings npGSEA_1.43.0.tar.gz StartedAt: 2025-02-20 20:31:17 -0500 (Thu, 20 Feb 2025) EndedAt: 2025-02-20 20:31:58 -0500 (Thu, 20 Feb 2025) EllapsedTime: 40.6 seconds RetCode: 0 Status: OK CheckDir: npGSEA.Rcheck Warnings: 0