Package: normr Version: 1.33.0 Command: /Library/Frameworks/R.framework/Resources/bin/R CMD INSTALL normr StartedAt: 2025-02-20 15:16:55 -0500 (Thu, 20 Feb 2025) EndedAt: 2025-02-20 15:17:52 -0500 (Thu, 20 Feb 2025) EllapsedTime: 56.7 seconds RetCode: 0 Status: OK