Package: normr Version: 1.33.0 Command: /Library/Frameworks/R.framework/Resources/bin/R CMD check --install=check:normr.install-out.txt --library=/Library/Frameworks/R.framework/Resources/library --no-vignettes --timings normr_1.33.0.tar.gz StartedAt: 2025-02-20 22:03:46 -0500 (Thu, 20 Feb 2025) EndedAt: 2025-02-20 22:08:44 -0500 (Thu, 20 Feb 2025) EllapsedTime: 298.6 seconds RetCode: 0 Status: WARNINGS CheckDir: normr.Rcheck Warnings: 1