Package: normr Version: 1.33.0 Command: rm -rf normr.buildbin-libdir && mkdir normr.buildbin-libdir && /Users/biocbuild/BBS/utils/build-universal.sh normr_1.33.0.tar.gz /Library/Frameworks/R.framework/Resources/bin/R normr.buildbin-libdir StartedAt: 2025-02-21 00:43:25 -0500 (Fri, 21 Feb 2025) EndedAt: 2025-02-21 00:44:28 -0500 (Fri, 21 Feb 2025) EllapsedTime: 62.5 seconds RetCode: 0 Status: OK PackageFile: normr_1.33.0.tgz PackageFileSize: 4.18 MiB