Package: normr Version: 1.33.0 Command: /home/biocbuild/R/R/bin/R CMD INSTALL normr StartedAt: 2025-01-29 19:49:24 -0000 (Wed, 29 Jan 2025) EndedAt: 2025-01-29 19:50:29 -0000 (Wed, 29 Jan 2025) EllapsedTime: 64.6 seconds RetCode: 0 Status: OK