Package: normalize450K Version: 1.35.0 Command: rm -rf normalize450K.buildbin-libdir && mkdir normalize450K.buildbin-libdir && E:\biocbuild\bbs-3.21-bioc\R\bin\R.exe CMD INSTALL --build --library=normalize450K.buildbin-libdir normalize450K_1.35.0.tar.gz StartedAt: 2025-02-21 08:40:42 -0500 (Fri, 21 Feb 2025) EndedAt: 2025-02-21 08:41:01 -0500 (Fri, 21 Feb 2025) EllapsedTime: 19.5 seconds RetCode: 0 Status: OK PackageFile: normalize450K_1.35.0.zip PackageFileSize: 3.046 MiB