Package: nondetects Version: 2.37.0 Command: chmod a+r nondetects -R && E:\biocbuild\bbs-3.21-bioc\R\bin\R.exe CMD build --keep-empty-dirs --no-resave-data nondetects StartedAt: 2025-02-19 20:23:00 -0500 (Wed, 19 Feb 2025) EndedAt: 2025-02-19 20:23:04 -0500 (Wed, 19 Feb 2025) EllapsedTime: 4.0 seconds RetCode: 1 Status: ERROR PackageFile: None PackageFileSize: NA