Package: nondetects Version: 2.37.0 Command: /Library/Frameworks/R.framework/Resources/bin/R CMD INSTALL nondetects StartedAt: 2025-02-20 15:31:07 -0500 (Thu, 20 Feb 2025) EndedAt: 2025-02-20 15:31:07 -0500 (Thu, 20 Feb 2025) EllapsedTime: 0.1 seconds RetCode: 1 Status: ERROR