Package: nnSVG Version: 1.11.3 Command: /home/biocbuild/bbs-3.21-bioc/R/bin/R CMD INSTALL nnSVG StartedAt: 2025-02-20 15:31:09 -0500 (Thu, 20 Feb 2025) EndedAt: 2025-02-20 15:31:32 -0500 (Thu, 20 Feb 2025) EllapsedTime: 22.8 seconds RetCode: 0 Status: OK