Package: nnSVG Version: 1.11.3 Command: /Library/Frameworks/R.framework/Resources/bin/R CMD INSTALL nnSVG StartedAt: 2025-02-20 15:16:09 -0500 (Thu, 20 Feb 2025) EndedAt: 2025-02-20 15:16:46 -0500 (Thu, 20 Feb 2025) EllapsedTime: 36.4 seconds RetCode: 0 Status: OK