Package: nnSVG Version: 1.11.3 Command: /Library/Frameworks/R.framework/Resources/bin/R CMD build --keep-empty-dirs --no-resave-data nnSVG StartedAt: 2025-02-20 17:36:23 -0500 (Thu, 20 Feb 2025) EndedAt: 2025-02-20 17:38:02 -0500 (Thu, 20 Feb 2025) EllapsedTime: 98.9 seconds RetCode: 1 Status: ERROR PackageFile: None PackageFileSize: NA