Package: nnSVG Version: 1.11.3 Command: /Library/Frameworks/R.framework/Resources/bin/R CMD build --keep-empty-dirs --no-resave-data nnSVG StartedAt: 2025-02-20 17:07:50 -0500 (Thu, 20 Feb 2025) EndedAt: 2025-02-20 17:08:19 -0500 (Thu, 20 Feb 2025) EllapsedTime: 29.4 seconds RetCode: 1 Status: ERROR PackageFile: None PackageFileSize: NA