Package: nnNorm Version: 2.71.0 Command: rm -rf nnNorm.buildbin-libdir && mkdir nnNorm.buildbin-libdir && E:\biocbuild\bbs-3.21-bioc\R\bin\R.exe CMD INSTALL --build --library=nnNorm.buildbin-libdir nnNorm_2.71.0.tar.gz StartedAt: 2025-02-20 08:19:54 -0500 (Thu, 20 Feb 2025) EndedAt: 2025-02-20 08:20:04 -0500 (Thu, 20 Feb 2025) EllapsedTime: 10.1 seconds RetCode: 0 Status: OK PackageFile: nnNorm_2.71.0.zip PackageFileSize: 102.9 KiB