Package: nipalsMCIA Version: 1.5.3 Command: /home/biocbuild/bbs-3.21-bioc/R/bin/R CMD INSTALL nipalsMCIA StartedAt: 2025-02-17 15:19:00 -0500 (Mon, 17 Feb 2025) EndedAt: 2025-02-17 15:19:25 -0500 (Mon, 17 Feb 2025) EllapsedTime: 24.9 seconds RetCode: 0 Status: OK