Package: nipalsMCIA Version: 1.5.3 Command: /home/biocbuild/bbs-3.21-bioc/R/bin/R CMD build --keep-empty-dirs --no-resave-data nipalsMCIA StartedAt: 2025-02-17 18:20:17 -0500 (Mon, 17 Feb 2025) EndedAt: 2025-02-17 18:23:53 -0500 (Mon, 17 Feb 2025) EllapsedTime: 216.4 seconds RetCode: 0 Status: OK PackageFile: nipalsMCIA_1.5.3.tar.gz PackageFileSize: 3.142 MiB