Package: nipalsMCIA Version: 1.6.0 Command: /Library/Frameworks/R.framework/Resources/bin/R CMD INSTALL nipalsMCIA StartedAt: 2025-10-02 15:34:34 -0400 (Thu, 02 Oct 2025) EndedAt: 2025-10-02 15:35:32 -0400 (Thu, 02 Oct 2025) EllapsedTime: 57.9 seconds RetCode: 0 Status: OK