Package: nipalsMCIA Version: 1.6.0 Command: /Library/Frameworks/R.framework/Resources/bin/R CMD build --keep-empty-dirs --no-resave-data nipalsMCIA StartedAt: 2025-10-02 21:09:02 -0400 (Thu, 02 Oct 2025) EndedAt: 2025-10-02 21:16:15 -0400 (Thu, 02 Oct 2025) EllapsedTime: 433.2 seconds RetCode: 0 Status: OK PackageFile: nipalsMCIA_1.6.0.tar.gz PackageFileSize: 3.777 MiB