Package: nipalsMCIA Version: 1.5.3 Command: /Library/Frameworks/R.framework/Resources/bin/R CMD INSTALL nipalsMCIA StartedAt: 2025-02-17 15:31:06 -0500 (Mon, 17 Feb 2025) EndedAt: 2025-02-17 15:31:41 -0500 (Mon, 17 Feb 2025) EllapsedTime: 34.9 seconds RetCode: 0 Status: OK