Package: nipalsMCIA Version: 1.5.3 Command: /Library/Frameworks/R.framework/Resources/bin/R CMD build --keep-empty-dirs --no-resave-data nipalsMCIA StartedAt: 2025-02-17 17:34:42 -0500 (Mon, 17 Feb 2025) EndedAt: 2025-02-17 17:38:54 -0500 (Mon, 17 Feb 2025) EllapsedTime: 252.4 seconds RetCode: 0 Status: OK PackageFile: nipalsMCIA_1.5.3.tar.gz PackageFileSize: 3.784 MiB