Package: netresponse Version: 1.67.0 Command: /home/biocbuild/bbs-3.21-bioc/R/bin/R CMD build --keep-empty-dirs --no-resave-data netresponse StartedAt: 2025-02-19 18:23:25 -0500 (Wed, 19 Feb 2025) EndedAt: 2025-02-19 18:23:38 -0500 (Wed, 19 Feb 2025) EllapsedTime: 13.0 seconds RetCode: 0 Status: OK PackageFile: netresponse_1.67.0.tar.gz PackageFileSize: 975.4 KiB