Package: netresponse Version: 1.67.0 Command: /Library/Frameworks/R.framework/Resources/bin/R CMD INSTALL netresponse StartedAt: 2025-02-19 15:26:49 -0500 (Wed, 19 Feb 2025) EndedAt: 2025-02-19 15:26:53 -0500 (Wed, 19 Feb 2025) EllapsedTime: 4.3 seconds RetCode: 0 Status: OK