Package: netresponse Version: 1.67.0 Command: /Library/Frameworks/R.framework/Resources/bin/R CMD build --keep-empty-dirs --no-resave-data netresponse StartedAt: 2025-02-19 17:08:15 -0500 (Wed, 19 Feb 2025) EndedAt: 2025-02-19 17:08:22 -0500 (Wed, 19 Feb 2025) EllapsedTime: 6.1 seconds RetCode: 0 Status: OK PackageFile: netresponse_1.67.0.tar.gz PackageFileSize: 975.5 KiB