Package: netprioR Version: 1.33.0 Command: chmod a+r netprioR -R && E:\biocbuild\bbs-3.21-bioc\R\bin\R.exe CMD build --keep-empty-dirs --no-resave-data netprioR StartedAt: 2025-02-21 21:01:59 -0500 (Fri, 21 Feb 2025) EndedAt: 2025-02-21 21:03:02 -0500 (Fri, 21 Feb 2025) EllapsedTime: 62.8 seconds RetCode: 0 Status: OK PackageFile: netprioR_1.33.0.tar.gz PackageFileSize: 418.9 KiB