Package: netprioR Version: 1.33.0 Command: /Library/Frameworks/R.framework/Resources/bin/R CMD INSTALL netprioR StartedAt: 2025-02-20 15:08:05 -0500 (Thu, 20 Feb 2025) EndedAt: 2025-02-20 15:08:26 -0500 (Thu, 20 Feb 2025) EllapsedTime: 20.1 seconds RetCode: 0 Status: OK