Package: netprioR Version: 1.33.0 Command: rm -rf netprioR.buildbin-libdir && mkdir netprioR.buildbin-libdir && /Users/biocbuild/BBS/utils/build-universal.sh netprioR_1.33.0.tar.gz /Library/Frameworks/R.framework/Resources/bin/R netprioR.buildbin-libdir StartedAt: 2025-02-21 00:43:07 -0500 (Fri, 21 Feb 2025) EndedAt: 2025-02-21 00:43:21 -0500 (Fri, 21 Feb 2025) EllapsedTime: 13.9 seconds RetCode: 0 Status: OK PackageFile: netprioR_1.33.0.tgz PackageFileSize: 719.8 KiB