Package: nethet Version: 1.39.0 Command: /home/biocbuild/bbs-3.21-bioc/R/bin/R CMD check --install=check:nethet.install-out.txt --library=/home/biocbuild/bbs-3.21-bioc/R/site-library --timings nethet_1.39.0.tar.gz StartedAt: 2025-02-21 00:10:17 -0500 (Fri, 21 Feb 2025) EndedAt: 2025-02-21 00:16:23 -0500 (Fri, 21 Feb 2025) EllapsedTime: 366.4 seconds RetCode: 0 Status: WARNINGS CheckDir: nethet.Rcheck Warnings: 1