Package: nethet Version: 1.39.0 Command: /Library/Frameworks/R.framework/Resources/bin/R CMD check --install=check:nethet.install-out.txt --library=/Library/Frameworks/R.framework/Resources/library --no-vignettes --timings nethet_1.39.0.tar.gz StartedAt: 2025-02-20 22:00:55 -0500 (Thu, 20 Feb 2025) EndedAt: 2025-02-20 22:04:15 -0500 (Thu, 20 Feb 2025) EllapsedTime: 199.5 seconds RetCode: 0 Status: WARNINGS CheckDir: nethet.Rcheck Warnings: 1