Package: nethet Version: 1.39.0 Command: /Library/Frameworks/R.framework/Resources/bin/R CMD build --keep-empty-dirs --no-resave-data nethet StartedAt: 2025-02-20 17:35:11 -0500 (Thu, 20 Feb 2025) EndedAt: 2025-02-20 17:39:28 -0500 (Thu, 20 Feb 2025) EllapsedTime: 256.7 seconds RetCode: 0 Status: OK PackageFile: nethet_1.39.0.tar.gz PackageFileSize: 705.3 KiB