Package: nethet Version: 1.39.0 Command: /Library/Frameworks/R.framework/Resources/bin/R CMD build --keep-empty-dirs --no-resave-data nethet StartedAt: 2025-02-19 17:08:06 -0500 (Wed, 19 Feb 2025) EndedAt: 2025-02-19 17:09:52 -0500 (Wed, 19 Feb 2025) EllapsedTime: 105.2 seconds RetCode: 0 Status: OK PackageFile: nethet_1.39.0.tar.gz PackageFileSize: 704.8 KiB