Package: netboost Version: 2.15.0 Command: /Library/Frameworks/R.framework/Resources/bin/R CMD check --install=check:netboost.install-out.txt --library=/Library/Frameworks/R.framework/Resources/library --no-vignettes --timings netboost_2.15.0.tar.gz StartedAt: 2025-02-20 22:00:49 -0500 (Thu, 20 Feb 2025) EndedAt: 2025-02-20 22:04:09 -0500 (Thu, 20 Feb 2025) EllapsedTime: 199.5 seconds RetCode: 0 Status: WARNINGS CheckDir: netboost.Rcheck Warnings: 1