Package: netboost Version: 2.15.0 Command: /Library/Frameworks/R.framework/Resources/bin/R CMD build --keep-empty-dirs --no-resave-data netboost StartedAt: 2025-02-20 17:35:09 -0500 (Thu, 20 Feb 2025) EndedAt: 2025-02-20 17:36:26 -0500 (Thu, 20 Feb 2025) EllapsedTime: 77.6 seconds RetCode: 0 Status: OK PackageFile: netboost_2.15.0.tar.gz PackageFileSize: 1.132 MiB